BEGIN:VCALENDAR
VERSION:2.0
PRODID:-//ACVL - - Association des clubs de voile lémaniques - ECPv6.15.20//NONSGML v1.0//EN
CALSCALE:GREGORIAN
METHOD:PUBLISH
X-WR-CALNAME:ACVL - - Association des clubs de voile lémaniques
X-ORIGINAL-URL:https://www.acvl.ch
X-WR-CALDESC:Évènements pour ACVL - - Association des clubs de voile lémaniques
REFRESH-INTERVAL;VALUE=DURATION:PT1H
X-Robots-Tag:noindex
X-PUBLISHED-TTL:PT1H
BEGIN:VTIMEZONE
TZID:Europe/Paris
BEGIN:DAYLIGHT
TZOFFSETFROM:+0100
TZOFFSETTO:+0200
TZNAME:CEST
DTSTART:20240331T010000
END:DAYLIGHT
BEGIN:STANDARD
TZOFFSETFROM:+0200
TZOFFSETTO:+0100
TZNAME:CET
DTSTART:20241027T010000
END:STANDARD
BEGIN:DAYLIGHT
TZOFFSETFROM:+0100
TZOFFSETTO:+0200
TZNAME:CEST
DTSTART:20250330T010000
END:DAYLIGHT
BEGIN:STANDARD
TZOFFSETFROM:+0200
TZOFFSETTO:+0100
TZNAME:CET
DTSTART:20251026T010000
END:STANDARD
BEGIN:DAYLIGHT
TZOFFSETFROM:+0100
TZOFFSETTO:+0200
TZNAME:CEST
DTSTART:20260329T010000
END:DAYLIGHT
BEGIN:STANDARD
TZOFFSETFROM:+0200
TZOFFSETTO:+0100
TZNAME:CET
DTSTART:20261025T010000
END:STANDARD
END:VTIMEZONE
BEGIN:VEVENT
DTSTART;VALUE=DATE:20250816
DTEND;VALUE=DATE:20250817
DTSTAMP:20260419T204242
CREATED:20250813T161525Z
LAST-MODIFIED:20250813T161525Z
UID:391916-1755302400-1755302400@www.acvl.ch
SUMMARY:Pully Sail for hope 2025
DESCRIPTION:
URL:https://www.acvl.ch/event/pully-sail-for-hope-2025/
CATEGORIES:Régates
END:VEVENT
BEGIN:VEVENT
DTSTART;VALUE=DATE:20250816
DTEND;VALUE=DATE:20250818
DTSTAMP:20260419T204242
CREATED:20250905T161517Z
LAST-MODIFIED:20250905T161517Z
UID:399453-1755302400-1755388800@www.acvl.ch
SUMMARY:Granbordenuy 2025 - Verbier 4 Vallées
DESCRIPTION:
URL:https://www.acvl.ch/event/granbordenuy-2025-verbier-4-valles/
CATEGORIES:Régates
END:VEVENT
BEGIN:VEVENT
DTSTART;VALUE=DATE:20250816
DTEND;VALUE=DATE:20250818
DTSTAMP:20260419T204242
CREATED:20251222T171514Z
LAST-MODIFIED:20251222T171514Z
UID:450395-1755302400-1755388800@www.acvl.ch
SUMMARY:59ème Bol d'Or du lac de Joux
DESCRIPTION:
URL:https://www.acvl.ch/event/59me-bol-dor-du-lac-de-joux/
CATEGORIES:Régates
END:VEVENT
BEGIN:VEVENT
DTSTART;VALUE=DATE:20250821
DTEND;VALUE=DATE:20250825
DTSTAMP:20260419T204242
CREATED:20250825T161524Z
LAST-MODIFIED:20250825T161524Z
UID:395681-1755734400-1755993600@www.acvl.ch
SUMMARY:Championnat de Suisse des Surprise
DESCRIPTION:
URL:https://www.acvl.ch/event/championnat-de-suisse-des-surprise/
CATEGORIES:Régates
END:VEVENT
BEGIN:VEVENT
DTSTART;VALUE=DATE:20250822
DTEND;VALUE=DATE:20250824
DTSTAMP:20260419T204242
CREATED:20250828T161526Z
LAST-MODIFIED:20250828T161526Z
UID:396682-1755820800-1755907200@www.acvl.ch
SUMMARY:Belle Etoile 2025
DESCRIPTION:
URL:https://www.acvl.ch/event/belle-etoile-2025/
CATEGORIES:Régates
END:VEVENT
BEGIN:VEVENT
DTSTART;VALUE=DATE:20250823
DTEND;VALUE=DATE:20250825
DTSTAMP:20260419T204242
CREATED:20251210T111518Z
LAST-MODIFIED:20251210T111518Z
UID:444047-1755907200-1755993600@www.acvl.ch
SUMMARY:41em Challenge Boubou
DESCRIPTION:
URL:https://www.acvl.ch/event/41em-challenge-boubou/
CATEGORIES:Régates
END:VEVENT
BEGIN:VEVENT
DTSTART;VALUE=DATE:20250824
DTEND;VALUE=DATE:20250825
DTSTAMP:20260419T204242
CREATED:20251013T161528Z
LAST-MODIFIED:20251013T161528Z
UID:415314-1755993600-1755993600@www.acvl.ch
SUMMARY:Challenge de Sciez #3
DESCRIPTION:
URL:https://www.acvl.ch/event/challenge-de-sciez-3/
CATEGORIES:Régates
END:VEVENT
BEGIN:VEVENT
DTSTART;VALUE=DATE:20250828
DTEND;VALUE=DATE:20250831
DTSTAMP:20260419T204242
CREATED:20250830T161527Z
LAST-MODIFIED:20250830T161527Z
UID:397347-1756339200-1756512000@www.acvl.ch
SUMMARY:Semaine du soir de Thonon
DESCRIPTION:
URL:https://www.acvl.ch/event/semaine-du-soir-de-thonon/
CATEGORIES:Régates
END:VEVENT
BEGIN:VEVENT
DTSTART;VALUE=DATE:20250829
DTEND;VALUE=DATE:20250901
DTSTAMP:20260419T204242
CREATED:20250924T101600Z
LAST-MODIFIED:20250924T101600Z
UID:406678-1756425600-1756598400@www.acvl.ch
SUMMARY:Translémanique en solitaire
DESCRIPTION:
URL:https://www.acvl.ch/event/translmanique-en-solitaire/
CATEGORIES:Régates
END:VEVENT
BEGIN:VEVENT
DTSTART;VALUE=DATE:20250830
DTEND;VALUE=DATE:20250831
DTSTAMP:20260419T204242
CREATED:20250826T041528Z
LAST-MODIFIED:20250826T041528Z
UID:395792-1756512000-1756512000@www.acvl.ch
SUMMARY:Le Joran
DESCRIPTION:
URL:https://www.acvl.ch/event/le-joran/
CATEGORIES:Régates
END:VEVENT
BEGIN:VEVENT
DTSTART;VALUE=DATE:20250830
DTEND;VALUE=DATE:20250901
DTSTAMP:20260419T204242
CREATED:20250831T041509Z
LAST-MODIFIED:20250831T041509Z
UID:397460-1756512000-1756598400@www.acvl.ch
SUMMARY:Grand Prix M2 Crans 2025
DESCRIPTION:
URL:https://www.acvl.ch/event/grand-prix-m2-crans-2025/
CATEGORIES:Régates
END:VEVENT
BEGIN:VEVENT
DTSTART;VALUE=DATE:20250831
DTEND;VALUE=DATE:20250901
DTSTAMP:20260419T204242
CREATED:20250901T041511Z
LAST-MODIFIED:20250901T041511Z
UID:397803-1756598400-1756598400@www.acvl.ch
SUMMARY:Régate des Ecoles de voile FGCV
DESCRIPTION:
URL:https://www.acvl.ch/event/rgate-des-ecoles-de-voile-fgcv/
CATEGORIES:Régates
END:VEVENT
BEGIN:VEVENT
DTSTART;VALUE=DATE:20250902
DTEND;VALUE=DATE:20250906
DTSTAMP:20260419T204242
CREATED:20250910T161519Z
LAST-MODIFIED:20250910T161519Z
UID:401309-1756771200-1757030400@www.acvl.ch
SUMMARY:Semaine du Soir Morges 2025
DESCRIPTION:
URL:https://www.acvl.ch/event/semaine-du-soir-morges-2025/
CATEGORIES:Régates
END:VEVENT
BEGIN:VEVENT
DTSTART;VALUE=DATE:20250904
DTEND;VALUE=DATE:20250908
DTSTAMP:20260419T204242
CREATED:20250924T101600Z
LAST-MODIFIED:20250924T101600Z
UID:406679-1756944000-1757203200@www.acvl.ch
SUMMARY:Championnat suisse de 29er
DESCRIPTION:
URL:https://www.acvl.ch/event/championnat-suisse-de-29er/
CATEGORIES:Régates
END:VEVENT
BEGIN:VEVENT
DTSTART;VALUE=DATE:20250906
DTEND;VALUE=DATE:20250908
DTSTAMP:20260419T204242
CREATED:20250315T051516Z
LAST-MODIFIED:20250315T051516Z
UID:367722-1757116800-1757203200@www.acvl.ch
SUMMARY:Trophée RS Feva 2025
DESCRIPTION:
URL:https://www.acvl.ch/event/trophe-rs-feva-2025/
CATEGORIES:Régates
END:VEVENT
BEGIN:VEVENT
DTSTART;VALUE=DATE:20250906
DTEND;VALUE=DATE:20250908
DTSTAMP:20260419T204242
CREATED:20250827T101603Z
LAST-MODIFIED:20250827T101603Z
UID:396235-1757116800-1757203200@www.acvl.ch
SUMMARY:Nocturne de Montreux
DESCRIPTION:
URL:https://www.acvl.ch/event/nocturne-de-montreux/
CATEGORIES:Régates
END:VEVENT
BEGIN:VEVENT
DTSTART;VALUE=DATE:20250906
DTEND;VALUE=DATE:20250908
DTSTAMP:20260419T204242
CREATED:20250906T101510Z
LAST-MODIFIED:20250906T101510Z
UID:399690-1757116800-1757203200@www.acvl.ch
SUMMARY:Critérium surprise de la Tour-de-Peilz  -Trophée Europ'sails Acte 7
DESCRIPTION:
URL:https://www.acvl.ch/event/critrium-surprise-de-la-tour-de-peilz-trophe-europsails-acte-7/
CATEGORIES:Régates
END:VEVENT
BEGIN:VEVENT
DTSTART;VALUE=DATE:20250906
DTEND;VALUE=DATE:20250908
DTSTAMP:20260419T204242
CREATED:20250916T161512Z
LAST-MODIFIED:20250916T161512Z
UID:403614-1757116800-1757203200@www.acvl.ch
SUMMARY:Criterium M2
DESCRIPTION:
URL:https://www.acvl.ch/event/criterium-m2/
CATEGORIES:Régates
END:VEVENT
BEGIN:VEVENT
DTSTART;VALUE=DATE:20250906
DTEND;VALUE=DATE:20250907
DTSTAMP:20260419T204242
CREATED:20251013T161529Z
LAST-MODIFIED:20251013T161529Z
UID:415315-1757116800-1757116800@www.acvl.ch
SUMMARY:X de Sciez - eMB Léman 2025
DESCRIPTION:
URL:https://www.acvl.ch/event/x-de-sciez-emb-lman-2025/
CATEGORIES:Régates
END:VEVENT
BEGIN:VEVENT
DTSTART;VALUE=DATE:20250906
DTEND;VALUE=DATE:20250908
DTSTAMP:20260419T204242
CREATED:20251115T171526Z
LAST-MODIFIED:20251115T171526Z
UID:431528-1757116800-1757203200@www.acvl.ch
SUMMARY:Trophée Rentes Genevoises 2025
DESCRIPTION:
URL:https://www.acvl.ch/event/trophe-rentes-genevoises-2025/
CATEGORIES:Régates
END:VEVENT
BEGIN:VEVENT
DTSTART;VALUE=DATE:20250907
DTEND;VALUE=DATE:20250908
DTSTAMP:20260419T204242
CREATED:20251013T161529Z
LAST-MODIFIED:20251013T161529Z
UID:415316-1757203200-1757203200@www.acvl.ch
SUMMARY:Criterium Melges32\, Gd-Surprise\, Class8 et Surprise
DESCRIPTION:
URL:https://www.acvl.ch/event/criterium-melges32-gd-surprise-class8-et-surprise/
CATEGORIES:Régates
END:VEVENT
BEGIN:VEVENT
DTSTART;VALUE=DATE:20250910
DTEND;VALUE=DATE:20250915
DTSTAMP:20260419T204242
CREATED:20250916T101619Z
LAST-MODIFIED:20250916T101619Z
UID:403481-1757462400-1757808000@www.acvl.ch
SUMMARY:ILCA Championnat suisse 2025
DESCRIPTION:
URL:https://www.acvl.ch/event/ilca-championnat-suisse-2025/
CATEGORIES:Régates
END:VEVENT
BEGIN:VEVENT
DTSTART;VALUE=DATE:20250911
DTEND;VALUE=DATE:20250912
DTSTAMP:20260419T204242
CREATED:20250911T161517Z
LAST-MODIFIED:20250911T161517Z
UID:401693-1757548800-1757548800@www.acvl.ch
SUMMARY:Régate Jeûne Genevois 2025
DESCRIPTION:
URL:https://www.acvl.ch/event/rgate-jene-genevois-2025/
CATEGORIES:Régates
END:VEVENT
BEGIN:VEVENT
DTSTART;VALUE=DATE:20250913
DTEND;VALUE=DATE:20250915
DTSTAMP:20260419T204242
CREATED:20250913T161513Z
LAST-MODIFIED:20250913T161513Z
UID:402448-1757721600-1757808000@www.acvl.ch
SUMMARY:Challenge Pingouins 2025
DESCRIPTION:
URL:https://www.acvl.ch/event/challenge-pingouins-2025/
CATEGORIES:Régates
END:VEVENT
BEGIN:VEVENT
DTSTART;VALUE=DATE:20250913
DTEND;VALUE=DATE:20250915
DTSTAMP:20260419T204242
CREATED:20250914T161514Z
LAST-MODIFIED:20250914T161514Z
UID:402829-1757721600-1757808000@www.acvl.ch
SUMMARY:Coupe d'Avant et d'Argent 2025
DESCRIPTION:
URL:https://www.acvl.ch/event/coupe-davant-et-dargent-2025/
CATEGORIES:Régates
END:VEVENT
BEGIN:VEVENT
DTSTART;VALUE=DATE:20250913
DTEND;VALUE=DATE:20250915
DTSTAMP:20260419T204242
CREATED:20250914T161514Z
LAST-MODIFIED:20250914T161514Z
UID:402830-1757721600-1757808000@www.acvl.ch
SUMMARY:Criterium Esse 850\, GS et Toucan
DESCRIPTION:
URL:https://www.acvl.ch/event/criterium-esse-850-gs-et-toucan/
CATEGORIES:Régates
END:VEVENT
BEGIN:VEVENT
DTSTART;VALUE=DATE:20250913
DTEND;VALUE=DATE:20251026
DTSTAMP:20260419T204242
CREATED:20251027T051527Z
LAST-MODIFIED:20251027T051527Z
UID:421756-1757721600-1761350400@www.acvl.ch
SUMMARY:Championnat interne 2025 - Coupe automne
DESCRIPTION:
URL:https://www.acvl.ch/event/championnat-interne-2025-coupe-automne/
CATEGORIES:Régates
END:VEVENT
BEGIN:VEVENT
DTSTART;VALUE=DATE:20250913
DTEND;VALUE=DATE:20250914
DTSTAMP:20260419T204242
CREATED:20251027T051527Z
LAST-MODIFIED:20251027T051527Z
UID:421757-1757721600-1757721600@www.acvl.ch
SUMMARY:Vire 1000 - MORGES iMMO
DESCRIPTION:
URL:https://www.acvl.ch/event/vire-1000-morges-immo/
CATEGORIES:Régates
END:VEVENT
BEGIN:VEVENT
DTSTART;VALUE=DATE:20250917
DTEND;VALUE=DATE:20250918
DTSTAMP:20260419T204242
CREATED:20250915T041528Z
LAST-MODIFIED:20250915T041528Z
UID:402960-1758067200-1758067200@www.acvl.ch
SUMMARY:Régate pirate
DESCRIPTION:
URL:https://www.acvl.ch/event/rgate-pirate/
CATEGORIES:Régates
END:VEVENT
BEGIN:VEVENT
DTSTART;VALUE=DATE:20250920
DTEND;VALUE=DATE:20250921
DTSTAMP:20260419T204242
CREATED:20251209T051527Z
LAST-MODIFIED:20251209T051527Z
UID:443354-1758326400-1758326400@www.acvl.ch
SUMMARY:Route des Iles \, dériveurs
DESCRIPTION:
URL:https://www.acvl.ch/event/route-des-iles-driveurs/
CATEGORIES:Régates
END:VEVENT
END:VCALENDAR