BEGIN:VCALENDAR
VERSION:2.0
PRODID:-//ACVL - - Association des clubs de voile lémaniques - ECPv6.15.20//NONSGML v1.0//EN
CALSCALE:GREGORIAN
METHOD:PUBLISH
X-ORIGINAL-URL:https://www.acvl.ch
X-WR-CALDESC:Évènements pour ACVL - - Association des clubs de voile lémaniques
REFRESH-INTERVAL;VALUE=DURATION:PT1H
X-Robots-Tag:noindex
X-PUBLISHED-TTL:PT1H
BEGIN:VTIMEZONE
TZID:Europe/Paris
BEGIN:DAYLIGHT
TZOFFSETFROM:+0100
TZOFFSETTO:+0200
TZNAME:CEST
DTSTART:20240331T010000
END:DAYLIGHT
BEGIN:STANDARD
TZOFFSETFROM:+0200
TZOFFSETTO:+0100
TZNAME:CET
DTSTART:20241027T010000
END:STANDARD
BEGIN:DAYLIGHT
TZOFFSETFROM:+0100
TZOFFSETTO:+0200
TZNAME:CEST
DTSTART:20250330T010000
END:DAYLIGHT
BEGIN:STANDARD
TZOFFSETFROM:+0200
TZOFFSETTO:+0100
TZNAME:CET
DTSTART:20251026T010000
END:STANDARD
BEGIN:DAYLIGHT
TZOFFSETFROM:+0100
TZOFFSETTO:+0200
TZNAME:CEST
DTSTART:20260329T010000
END:DAYLIGHT
BEGIN:STANDARD
TZOFFSETFROM:+0200
TZOFFSETTO:+0100
TZNAME:CET
DTSTART:20261025T010000
END:STANDARD
END:VTIMEZONE
BEGIN:VEVENT
DTSTART;VALUE=DATE:20250926
DTEND;VALUE=DATE:20250929
DTSTAMP:20260420T013051
CREATED:20250930T041510Z
LAST-MODIFIED:20250930T041510Z
UID:409077-1758844800-1759017600@www.acvl.ch
SUMMARY:Swiss Sailing Promotion League ACT III/2025 Final & Qualifier - Prangins
DESCRIPTION:
URL:https://www.acvl.ch/event/swiss-sailing-promotion-league-act-iii2025-final-qualifier-prangins/
CATEGORIES:Régates
END:VEVENT
BEGIN:VEVENT
DTSTART;VALUE=DATE:20250927
DTEND;VALUE=DATE:20250928
DTSTAMP:20260420T013051
CREATED:20250904T041516Z
LAST-MODIFIED:20250904T041516Z
UID:398857-1758931200-1758931200@www.acvl.ch
SUMMARY:Régate Sylvain Trinquet 2025
DESCRIPTION:
URL:https://www.acvl.ch/event/rgate-sylvain-trinquet-2025/
CATEGORIES:Régates
END:VEVENT
BEGIN:VEVENT
DTSTART;VALUE=DATE:20250927
DTEND;VALUE=DATE:20250928
DTSTAMP:20260420T013051
CREATED:20250922T161526Z
LAST-MODIFIED:20250922T161526Z
UID:405994-1758931200-1758931200@www.acvl.ch
SUMMARY:Challenge Ruban Bleu 2025
DESCRIPTION:
URL:https://www.acvl.ch/event/challenge-ruban-bleu-2025/
CATEGORIES:Régates
END:VEVENT
BEGIN:VEVENT
DTSTART;VALUE=DATE:20250927
DTEND;VALUE=DATE:20250928
DTSTAMP:20260420T013051
CREATED:20250928T041526Z
LAST-MODIFIED:20250928T041526Z
UID:408209-1758931200-1758931200@www.acvl.ch
SUMMARY:La Double North Sails
DESCRIPTION:
URL:https://www.acvl.ch/event/la-double-north-sails/
CATEGORIES:Régates
END:VEVENT
BEGIN:VEVENT
DTSTART;VALUE=DATE:20250927
DTEND;VALUE=DATE:20250929
DTSTAMP:20260420T013051
CREATED:20251019T161537Z
LAST-MODIFIED:20251019T161537Z
UID:418208-1758931200-1759017600@www.acvl.ch
SUMMARY:Critérium Psaros 33
DESCRIPTION:
URL:https://www.acvl.ch/event/critrium-psaros-33/
CATEGORIES:Régates
END:VEVENT
BEGIN:VEVENT
DTSTART;VALUE=DATE:20250928
DTEND;VALUE=DATE:20250929
DTSTAMP:20260420T013051
CREATED:20250918T101605Z
LAST-MODIFIED:20250918T101605Z
UID:404277-1759017600-1759017600@www.acvl.ch
SUMMARY:Régate des Dames
DESCRIPTION:
URL:https://www.acvl.ch/event/rgate-des-dames/
CATEGORIES:Régates
END:VEVENT
BEGIN:VEVENT
DTSTART;VALUE=DATE:20250928
DTEND;VALUE=DATE:20250929
DTSTAMP:20260420T013051
CREATED:20251013T161529Z
LAST-MODIFIED:20251013T161529Z
UID:415317-1759017600-1759017600@www.acvl.ch
SUMMARY:La Solitaire
DESCRIPTION:
URL:https://www.acvl.ch/event/la-solitaire/
CATEGORIES:Régates
END:VEVENT
BEGIN:VEVENT
DTSTART;VALUE=DATE:20251003
DTEND;VALUE=DATE:20251006
DTSTAMP:20260420T013051
CREATED:20251006T101654Z
LAST-MODIFIED:20251006T101654Z
UID:411910-1759449600-1759622400@www.acvl.ch
SUMMARY:Swiss Sailing Challenge League ACT IV/2025 Final - Versoix
DESCRIPTION:
URL:https://www.acvl.ch/event/swiss-sailing-challenge-league-act-iv2025-final-versoix/
CATEGORIES:Régates
END:VEVENT
BEGIN:VEVENT
DTSTART;VALUE=DATE:20251003
DTEND;VALUE=DATE:20251006
DTSTAMP:20260420T013051
CREATED:20251006T101654Z
LAST-MODIFIED:20251006T101654Z
UID:411911-1759449600-1759622400@www.acvl.ch
SUMMARY:Swiss Sailing Super League ACT IV/2025 Final - Versoix
DESCRIPTION:
URL:https://www.acvl.ch/event/swiss-sailing-super-league-act-iv2025-final-versoix/
CATEGORIES:Régates
END:VEVENT
BEGIN:VEVENT
DTSTART;VALUE=DATE:20251004
DTEND;VALUE=DATE:20251006
DTSTAMP:20260420T013051
CREATED:20250115T111529Z
LAST-MODIFIED:20250115T111529Z
UID:365846-1759536000-1759622400@www.acvl.ch
SUMMARY:Finale M2 Speed Tour
DESCRIPTION:
URL:https://www.acvl.ch/event/finale-m2-speed-tour/
CATEGORIES:Régates
END:VEVENT
BEGIN:VEVENT
DTSTART;VALUE=DATE:20251004
DTEND;VALUE=DATE:20251005
DTSTAMP:20260420T013051
CREATED:20251001T101551Z
LAST-MODIFIED:20251001T101551Z
UID:409673-1759536000-1759536000@www.acvl.ch
SUMMARY:Challenge de la singerie 2025
DESCRIPTION:
URL:https://www.acvl.ch/event/challenge-de-la-singerie-2025/
CATEGORIES:Régates
END:VEVENT
BEGIN:VEVENT
DTSTART;VALUE=DATE:20251004
DTEND;VALUE=DATE:20251005
DTSTAMP:20260420T013051
CREATED:20251004T161526Z
LAST-MODIFIED:20251004T161526Z
UID:411156-1759536000-1759536000@www.acvl.ch
SUMMARY:Régate des Pirates 2025
DESCRIPTION:
URL:https://www.acvl.ch/event/rgate-des-pirates-2025/
CATEGORIES:Régates
END:VEVENT
BEGIN:VEVENT
DTSTART;VALUE=DATE:20251004
DTEND;VALUE=DATE:20251006
DTSTAMP:20260420T013051
CREATED:20251005T161526Z
LAST-MODIFIED:20251005T161526Z
UID:411602-1759536000-1759622400@www.acvl.ch
SUMMARY:Pully - Championnat ACVL juniors 2025
DESCRIPTION:
URL:https://www.acvl.ch/event/pully-championnat-acvl-juniors-2025/
CATEGORIES:Régates
END:VEVENT
BEGIN:VEVENT
DTSTART;VALUE=DATE:20251004
DTEND;VALUE=DATE:20251005
DTSTAMP:20260420T013051
CREATED:20251006T101657Z
LAST-MODIFIED:20251006T101657Z
UID:411912-1759536000-1759536000@www.acvl.ch
SUMMARY:Swiss Sailing League Presidential Race 10 years SSL - Versoix
DESCRIPTION:
URL:https://www.acvl.ch/event/swiss-sailing-league-presidential-race-10-years-ssl-versoix/
CATEGORIES:Régates
END:VEVENT
BEGIN:VEVENT
DTSTART;VALUE=DATE:20251005
DTEND;VALUE=DATE:20251006
DTSTAMP:20260420T013051
CREATED:20251004T161526Z
LAST-MODIFIED:20251004T161526Z
UID:411157-1759622400-1759622400@www.acvl.ch
SUMMARY:La Chablaisienne 2025
DESCRIPTION:
URL:https://www.acvl.ch/event/la-chablaisienne-2025/
CATEGORIES:Régates
END:VEVENT
BEGIN:VEVENT
DTSTART;VALUE=DATE:20251005
DTEND;VALUE=DATE:20251006
DTSTAMP:20260420T013051
CREATED:20251005T161527Z
LAST-MODIFIED:20251005T161527Z
UID:411603-1759622400-1759622400@www.acvl.ch
SUMMARY:Risée du Matin
DESCRIPTION:
URL:https://www.acvl.ch/event/rise-du-matin/
CATEGORIES:Régates
END:VEVENT
BEGIN:VEVENT
DTSTART;VALUE=DATE:20251005
DTEND;VALUE=DATE:20251006
DTSTAMP:20260420T013051
CREATED:20251019T161538Z
LAST-MODIFIED:20251019T161538Z
UID:418209-1759622400-1759622400@www.acvl.ch
SUMMARY:Challenge Rippstein
DESCRIPTION:
URL:https://www.acvl.ch/event/challenge-rippstein/
CATEGORIES:Régates
END:VEVENT
BEGIN:VEVENT
DTSTART;VALUE=DATE:20251009
DTEND;VALUE=DATE:20251013
DTSTAMP:20260420T013051
CREATED:20250525T161521Z
LAST-MODIFIED:20250525T161521Z
UID:374059-1759968000-1760227200@www.acvl.ch
SUMMARY:Les Voiles d'Yvoire 2025
DESCRIPTION:
URL:https://www.acvl.ch/event/les-voiles-dyvoire-2025/
CATEGORIES:Régates
END:VEVENT
BEGIN:VEVENT
DTSTART;VALUE=DATE:20251010
DTEND;VALUE=DATE:20251014
DTSTAMP:20260420T013051
CREATED:20251011T101512Z
LAST-MODIFIED:20251011T101512Z
UID:414219-1760054400-1760313600@www.acvl.ch
SUMMARY:Nacra 15 Swiss Championship
DESCRIPTION:
URL:https://www.acvl.ch/event/nacra-15-swiss-championship/
CATEGORIES:Régates
END:VEVENT
BEGIN:VEVENT
DTSTART;VALUE=DATE:20251010
DTEND;VALUE=DATE:20251013
DTSTAMP:20260420T013051
CREATED:20251104T171523Z
LAST-MODIFIED:20251104T171523Z
UID:426076-1760054400-1760227200@www.acvl.ch
SUMMARY:TF35 Geneva Cup FINALE
DESCRIPTION:
URL:https://www.acvl.ch/event/tf35-geneva-cup-finale/
CATEGORIES:Régates
END:VEVENT
BEGIN:VEVENT
DTSTART;VALUE=DATE:20251011
DTEND;VALUE=DATE:20251012
DTSTAMP:20260420T013051
CREATED:20251011T041532Z
LAST-MODIFIED:20251011T041532Z
UID:414065-1760140800-1760140800@www.acvl.ch
SUMMARY:Régate de clôture
DESCRIPTION:
URL:https://www.acvl.ch/event/rgate-de-clture/
CATEGORIES:Régates
END:VEVENT
BEGIN:VEVENT
DTSTART;VALUE=DATE:20251011
DTEND;VALUE=DATE:20251013
DTSTAMP:20260420T013051
CREATED:20251014T101538Z
LAST-MODIFIED:20251014T101538Z
UID:415638-1760140800-1760227200@www.acvl.ch
SUMMARY:Swiss Sailing League 2K Act II/2025 Final - Rolle
DESCRIPTION:
URL:https://www.acvl.ch/event/swiss-sailing-league-2k-act-ii2025-final-rolle/
CATEGORIES:Régates
END:VEVENT
BEGIN:VEVENT
DTSTART;VALUE=DATE:20251011
DTEND;VALUE=DATE:20251013
DTSTAMP:20260420T013051
CREATED:20251021T041517Z
LAST-MODIFIED:20251021T041517Z
UID:418853-1760140800-1760227200@www.acvl.ch
SUMMARY:Geneva Wind Festival 2025
DESCRIPTION:
URL:https://www.acvl.ch/event/geneva-wind-festival-2025/
CATEGORIES:Régates
END:VEVENT
BEGIN:VEVENT
DTSTART;VALUE=DATE:20251011
DTEND;VALUE=DATE:20251012
DTSTAMP:20260420T013051
CREATED:20251210T051519Z
LAST-MODIFIED:20251210T051519Z
UID:443876-1760140800-1760140800@www.acvl.ch
SUMMARY:La Clôture
DESCRIPTION:
URL:https://www.acvl.ch/event/la-clture/
CATEGORIES:Régates
END:VEVENT
BEGIN:VEVENT
DTSTART;VALUE=DATE:20251018
DTEND;VALUE=DATE:20251020
DTSTAMP:20260420T013051
CREATED:20251019T161538Z
LAST-MODIFIED:20251019T161538Z
UID:418210-1760745600-1760832000@www.acvl.ch
SUMMARY:J70 Swiss Cup
DESCRIPTION:
URL:https://www.acvl.ch/event/j70-swiss-cup/
CATEGORIES:Régates
END:VEVENT
BEGIN:VEVENT
DTSTART;VALUE=DATE:20251019
DTEND;VALUE=DATE:20251020
DTSTAMP:20260420T013051
CREATED:20251019T041531Z
LAST-MODIFIED:20251019T041531Z
UID:417884-1760832000-1760832000@www.acvl.ch
SUMMARY:Challenge de Sciez #4
DESCRIPTION:
URL:https://www.acvl.ch/event/challenge-de-sciez-4/
CATEGORIES:Régates
END:VEVENT
BEGIN:VEVENT
DTSTART;VALUE=DATE:20251025
DTEND;VALUE=DATE:20251026
DTSTAMP:20260420T013051
CREATED:20251025T101517Z
LAST-MODIFIED:20251025T101517Z
UID:420938-1761350400-1761350400@www.acvl.ch
SUMMARY:Clôture CVV/CVL
DESCRIPTION:
URL:https://www.acvl.ch/event/clture-cvvcvl/
CATEGORIES:Régates
END:VEVENT
BEGIN:VEVENT
DTSTART;VALUE=DATE:20251025
DTEND;VALUE=DATE:20251026
DTSTAMP:20260420T013051
CREATED:20251209T051528Z
LAST-MODIFIED:20251209T051528Z
UID:443355-1761350400-1761350400@www.acvl.ch
SUMMARY:Der
DESCRIPTION:
URL:https://www.acvl.ch/event/der/
CATEGORIES:Régates
END:VEVENT
BEGIN:VEVENT
DTSTART;VALUE=DATE:20251026
DTEND;VALUE=DATE:20251027
DTSTAMP:20260420T013051
CREATED:20251031T051519Z
LAST-MODIFIED:20251031T051519Z
UID:423760-1761436800-1761436800@www.acvl.ch
SUMMARY:Régate des Feuilles Mortes 2025
DESCRIPTION:
URL:https://www.acvl.ch/event/rgate-des-feuilles-mortes-2025/
CATEGORIES:Régates
END:VEVENT
BEGIN:VEVENT
DTSTART;VALUE=DATE:20251115
DTEND;VALUE=DATE:20251117
DTSTAMP:20260420T013051
CREATED:20251120T111553Z
LAST-MODIFIED:20251120T111553Z
UID:433852-1763164800-1763251200@www.acvl.ch
SUMMARY:La 1602 - Régate de l'Escalade
DESCRIPTION:
URL:https://www.acvl.ch/event/la-1602-rgate-de-lescalade/
CATEGORIES:Régates
END:VEVENT
END:VCALENDAR