BEGIN:VCALENDAR
VERSION:2.0
PRODID:-//ACVL - - Association des clubs de voile lémaniques - ECPv6.15.20//NONSGML v1.0//EN
CALSCALE:GREGORIAN
METHOD:PUBLISH
X-ORIGINAL-URL:https://www.acvl.ch
X-WR-CALDESC:Évènements pour ACVL - - Association des clubs de voile lémaniques
REFRESH-INTERVAL;VALUE=DURATION:PT1H
X-Robots-Tag:noindex
X-PUBLISHED-TTL:PT1H
BEGIN:VTIMEZONE
TZID:Europe/Paris
BEGIN:DAYLIGHT
TZOFFSETFROM:+0100
TZOFFSETTO:+0200
TZNAME:CEST
DTSTART:20240331T010000
END:DAYLIGHT
BEGIN:STANDARD
TZOFFSETFROM:+0200
TZOFFSETTO:+0100
TZNAME:CET
DTSTART:20241027T010000
END:STANDARD
BEGIN:DAYLIGHT
TZOFFSETFROM:+0100
TZOFFSETTO:+0200
TZNAME:CEST
DTSTART:20250330T010000
END:DAYLIGHT
BEGIN:STANDARD
TZOFFSETFROM:+0200
TZOFFSETTO:+0100
TZNAME:CET
DTSTART:20251026T010000
END:STANDARD
BEGIN:DAYLIGHT
TZOFFSETFROM:+0100
TZOFFSETTO:+0200
TZNAME:CEST
DTSTART:20260329T010000
END:DAYLIGHT
BEGIN:STANDARD
TZOFFSETFROM:+0200
TZOFFSETTO:+0100
TZNAME:CET
DTSTART:20261025T010000
END:STANDARD
END:VTIMEZONE
BEGIN:VEVENT
DTSTART;VALUE=DATE:20250705
DTEND;VALUE=DATE:20250707
DTSTAMP:20260419T172813
CREATED:20250705T041517Z
LAST-MODIFIED:20250705T041517Z
UID:381376-1751673600-1751760000@www.acvl.ch
SUMMARY:Les 6 Heures de Nernier Et Criterium Surprise de Nernier - Yvoire (Acte 6 Trophée Europ'sails)
DESCRIPTION:
URL:https://www.acvl.ch/event/les-6-heures-de-nernier-et-criterium-surprise-de-nernier-yvoire-acte-6-trophe-europsails/
CATEGORIES:Régates
END:VEVENT
BEGIN:VEVENT
DTSTART;VALUE=DATE:20250705
DTEND;VALUE=DATE:20250706
DTSTAMP:20260419T172813
CREATED:20250705T161519Z
LAST-MODIFIED:20250705T161519Z
UID:381535-1751673600-1751673600@www.acvl.ch
SUMMARY:Farinet 2025
DESCRIPTION:
URL:https://www.acvl.ch/event/farinet-2025/
CATEGORIES:Régates
END:VEVENT
BEGIN:VEVENT
DTSTART;VALUE=DATE:20250707
DTEND;VALUE=DATE:20250712
DTSTAMP:20260419T172813
CREATED:20250611T041525Z
LAST-MODIFIED:20250611T041525Z
UID:376634-1751846400-1752192000@www.acvl.ch
SUMMARY:Swiss Sailing League Youth Camp I - Rolle
DESCRIPTION:
URL:https://www.acvl.ch/event/swiss-sailing-league-youth-camp-i-rolle/
CATEGORIES:Régates
END:VEVENT
BEGIN:VEVENT
DTSTART;VALUE=DATE:20250708
DTEND;VALUE=DATE:20250917
DTSTAMP:20260419T172813
CREATED:20251029T111521Z
LAST-MODIFIED:20251029T111521Z
UID:422932-1751932800-1757980800@www.acvl.ch
SUMMARY:Les Régates du Mardi - Coupe d'Eté
DESCRIPTION:
URL:https://www.acvl.ch/event/les-rgates-du-mardi-coupe-det/
CATEGORIES:Régates
END:VEVENT
BEGIN:VEVENT
DTSTART;VALUE=DATE:20250712
DTEND;VALUE=DATE:20250714
DTSTAMP:20260419T172813
CREATED:20250723T161527Z
LAST-MODIFIED:20250723T161527Z
UID:386106-1752278400-1752364800@www.acvl.ch
SUMMARY:Cordée Lémanique en double 2025
DESCRIPTION:
URL:https://www.acvl.ch/event/corde-lmanique-en-double-2025/
CATEGORIES:Régates
END:VEVENT
BEGIN:VEVENT
DTSTART;VALUE=DATE:20250719
DTEND;VALUE=DATE:20250727
DTSTAMP:20260419T172813
CREATED:20260408T101506Z
LAST-MODIFIED:20260408T101506Z
UID:457497-1752883200-1753488000@www.acvl.ch
SUMMARY:5 Jours du Léman
DESCRIPTION:
URL:https://www.acvl.ch/event/5-jours-du-lman/
CATEGORIES:Régates
END:VEVENT
BEGIN:VEVENT
DTSTART;VALUE=DATE:20250721
DTEND;VALUE=DATE:20250726
DTSTAMP:20260419T172813
CREATED:20250828T101522Z
LAST-MODIFIED:20250828T101522Z
UID:396571-1753056000-1753401600@www.acvl.ch
SUMMARY:Semaine du Soir de Vidy
DESCRIPTION:
URL:https://www.acvl.ch/event/semaine-du-soir-de-vidy/
CATEGORIES:Régates
END:VEVENT
BEGIN:VEVENT
DTSTART;VALUE=DATE:20250725
DTEND;VALUE=DATE:20250728
DTSTAMP:20260419T172813
CREATED:20250725T161522Z
LAST-MODIFIED:20250725T161522Z
UID:386626-1753401600-1753574400@www.acvl.ch
SUMMARY:48ème Régate des Vieux Bateaux
DESCRIPTION:
URL:https://www.acvl.ch/event/48me-rgate-des-vieux-bateaux/
CATEGORIES:Régates
END:VEVENT
BEGIN:VEVENT
DTSTART;VALUE=DATE:20250725
DTEND;VALUE=DATE:20250727
DTSTAMP:20260419T172813
CREATED:20250726T101533Z
LAST-MODIFIED:20250726T101533Z
UID:386803-1753401600-1753488000@www.acvl.ch
SUMMARY:Championnat de La Tour
DESCRIPTION:
URL:https://www.acvl.ch/event/championnat-de-la-tour/
CATEGORIES:Régates
END:VEVENT
BEGIN:VEVENT
DTSTART;VALUE=DATE:20250727
DTEND;VALUE=DATE:20250728
DTSTAMP:20260419T172813
CREATED:20251013T161528Z
LAST-MODIFIED:20251013T161528Z
UID:415313-1753574400-1753574400@www.acvl.ch
SUMMARY:Challenge de Sciez #2
DESCRIPTION:
URL:https://www.acvl.ch/event/challenge-de-sciez-2/
CATEGORIES:Régates
END:VEVENT
BEGIN:VEVENT
DTSTART;VALUE=DATE:20250802
DTEND;VALUE=DATE:20250811
DTSTAMP:20260419T172813
CREATED:20250811T101546Z
LAST-MODIFIED:20250811T101546Z
UID:391228-1754092800-1754784000@www.acvl.ch
SUMMARY:La Croisière Eynard
DESCRIPTION:
URL:https://www.acvl.ch/event/la-croisire-eynard/
CATEGORIES:Régates
END:VEVENT
BEGIN:VEVENT
DTSTART;VALUE=DATE:20250803
DTEND;VALUE=DATE:20250804
DTSTAMP:20260419T172813
CREATED:20250811T101546Z
LAST-MODIFIED:20250811T101546Z
UID:391229-1754179200-1754179200@www.acvl.ch
SUMMARY:La Solitaire Rolloise
DESCRIPTION:
URL:https://www.acvl.ch/event/la-solitaire-rolloise/
CATEGORIES:Régates
END:VEVENT
BEGIN:VEVENT
DTSTART;VALUE=DATE:20250804
DTEND;VALUE=DATE:20250809
DTSTAMP:20260419T172813
CREATED:20250811T101546Z
LAST-MODIFIED:20250811T101546Z
UID:391230-1754265600-1754611200@www.acvl.ch
SUMMARY:Semaine du Soir
DESCRIPTION:
URL:https://www.acvl.ch/event/semaine-du-soir/
CATEGORIES:Régates
END:VEVENT
BEGIN:VEVENT
DTSTART;VALUE=DATE:20250809
DTEND;VALUE=DATE:20250810
DTSTAMP:20260419T172813
CREATED:20250811T161528Z
LAST-MODIFIED:20250811T161528Z
UID:391328-1754697600-1754697600@www.acvl.ch
SUMMARY:Régate des Châteaux
DESCRIPTION:
URL:https://www.acvl.ch/event/rgate-des-chteaux/
CATEGORIES:Régates
END:VEVENT
BEGIN:VEVENT
DTSTART;VALUE=DATE:20250809
DTEND;VALUE=DATE:20250811
DTSTAMP:20260419T172813
CREATED:20251209T051525Z
LAST-MODIFIED:20251209T051525Z
UID:443353-1754697600-1754784000@www.acvl.ch
SUMMARY:Mi été en double
DESCRIPTION:
URL:https://www.acvl.ch/event/mi-t-en-double/
CATEGORIES:Régates
END:VEVENT
BEGIN:VEVENT
DTSTART;VALUE=DATE:20250811
DTEND;VALUE=DATE:20250816
DTSTAMP:20260419T172813
CREATED:20250816T041524Z
LAST-MODIFIED:20250816T041524Z
UID:392608-1754870400-1755216000@www.acvl.ch
SUMMARY:Semaine du soir de Founex
DESCRIPTION:
URL:https://www.acvl.ch/event/semaine-du-soir-de-founex/
CATEGORIES:Régates
END:VEVENT
BEGIN:VEVENT
DTSTART;VALUE=DATE:20250811
DTEND;VALUE=DATE:20250816
DTSTAMP:20260419T172813
CREATED:20250816T041524Z
LAST-MODIFIED:20250816T041524Z
UID:392606-1754870400-1755216000@www.acvl.ch
SUMMARY:Pully - Semaine du soir 2025
DESCRIPTION:
URL:https://www.acvl.ch/event/pully-semaine-du-soir-2025/
CATEGORIES:Régates
END:VEVENT
BEGIN:VEVENT
DTSTART;VALUE=DATE:20250811
DTEND;VALUE=DATE:20250816
DTSTAMP:20260419T172813
CREATED:20250816T041524Z
LAST-MODIFIED:20250816T041524Z
UID:392607-1754870400-1755216000@www.acvl.ch
SUMMARY:Semaine du soir CNVJ 2025
DESCRIPTION:
URL:https://www.acvl.ch/event/semaine-du-soir-cnvj-2025/
CATEGORIES:Régates
END:VEVENT
BEGIN:VEVENT
DTSTART;VALUE=DATE:20250814
DTEND;VALUE=DATE:20250818
DTSTAMP:20260419T172813
CREATED:20250818T101509Z
LAST-MODIFIED:20250818T101509Z
UID:393320-1755129600-1755388800@www.acvl.ch
SUMMARY:International Optimist Team Race
DESCRIPTION:
URL:https://www.acvl.ch/event/international-optimist-team-race/
CATEGORIES:Régates
END:VEVENT
BEGIN:VEVENT
DTSTART;VALUE=DATE:20250816
DTEND;VALUE=DATE:20250817
DTSTAMP:20260419T172813
CREATED:20250726T101538Z
LAST-MODIFIED:20250726T101538Z
UID:386805-1755302400-1755302400@www.acvl.ch
SUMMARY:Les Petits Pirates
DESCRIPTION:
URL:https://www.acvl.ch/event/les-petits-pirates/
CATEGORIES:Régates
END:VEVENT
BEGIN:VEVENT
DTSTART;VALUE=DATE:20250816
DTEND;VALUE=DATE:20250817
DTSTAMP:20260419T172813
CREATED:20250813T161525Z
LAST-MODIFIED:20250813T161525Z
UID:391916-1755302400-1755302400@www.acvl.ch
SUMMARY:Pully Sail for hope 2025
DESCRIPTION:
URL:https://www.acvl.ch/event/pully-sail-for-hope-2025/
CATEGORIES:Régates
END:VEVENT
BEGIN:VEVENT
DTSTART;VALUE=DATE:20250816
DTEND;VALUE=DATE:20250818
DTSTAMP:20260419T172813
CREATED:20250905T161517Z
LAST-MODIFIED:20250905T161517Z
UID:399453-1755302400-1755388800@www.acvl.ch
SUMMARY:Granbordenuy 2025 - Verbier 4 Vallées
DESCRIPTION:
URL:https://www.acvl.ch/event/granbordenuy-2025-verbier-4-valles/
CATEGORIES:Régates
END:VEVENT
BEGIN:VEVENT
DTSTART;VALUE=DATE:20250816
DTEND;VALUE=DATE:20250818
DTSTAMP:20260419T172813
CREATED:20251222T171514Z
LAST-MODIFIED:20251222T171514Z
UID:450395-1755302400-1755388800@www.acvl.ch
SUMMARY:59ème Bol d'Or du lac de Joux
DESCRIPTION:
URL:https://www.acvl.ch/event/59me-bol-dor-du-lac-de-joux/
CATEGORIES:Régates
END:VEVENT
BEGIN:VEVENT
DTSTART;VALUE=DATE:20250821
DTEND;VALUE=DATE:20250825
DTSTAMP:20260419T172813
CREATED:20250825T161524Z
LAST-MODIFIED:20250825T161524Z
UID:395681-1755734400-1755993600@www.acvl.ch
SUMMARY:Championnat de Suisse des Surprise
DESCRIPTION:
URL:https://www.acvl.ch/event/championnat-de-suisse-des-surprise/
CATEGORIES:Régates
END:VEVENT
BEGIN:VEVENT
DTSTART;VALUE=DATE:20250822
DTEND;VALUE=DATE:20250824
DTSTAMP:20260419T172813
CREATED:20250828T161526Z
LAST-MODIFIED:20250828T161526Z
UID:396682-1755820800-1755907200@www.acvl.ch
SUMMARY:Belle Etoile 2025
DESCRIPTION:
URL:https://www.acvl.ch/event/belle-etoile-2025/
CATEGORIES:Régates
END:VEVENT
BEGIN:VEVENT
DTSTART;VALUE=DATE:20250823
DTEND;VALUE=DATE:20250825
DTSTAMP:20260419T172813
CREATED:20251210T111518Z
LAST-MODIFIED:20251210T111518Z
UID:444047-1755907200-1755993600@www.acvl.ch
SUMMARY:41em Challenge Boubou
DESCRIPTION:
URL:https://www.acvl.ch/event/41em-challenge-boubou/
CATEGORIES:Régates
END:VEVENT
BEGIN:VEVENT
DTSTART;VALUE=DATE:20250824
DTEND;VALUE=DATE:20250825
DTSTAMP:20260419T172813
CREATED:20251013T161528Z
LAST-MODIFIED:20251013T161528Z
UID:415314-1755993600-1755993600@www.acvl.ch
SUMMARY:Challenge de Sciez #3
DESCRIPTION:
URL:https://www.acvl.ch/event/challenge-de-sciez-3/
CATEGORIES:Régates
END:VEVENT
BEGIN:VEVENT
DTSTART;VALUE=DATE:20250828
DTEND;VALUE=DATE:20250831
DTSTAMP:20260419T172813
CREATED:20250830T161527Z
LAST-MODIFIED:20250830T161527Z
UID:397347-1756339200-1756512000@www.acvl.ch
SUMMARY:Semaine du soir de Thonon
DESCRIPTION:
URL:https://www.acvl.ch/event/semaine-du-soir-de-thonon/
CATEGORIES:Régates
END:VEVENT
BEGIN:VEVENT
DTSTART;VALUE=DATE:20250829
DTEND;VALUE=DATE:20250901
DTSTAMP:20260419T172813
CREATED:20250924T101600Z
LAST-MODIFIED:20250924T101600Z
UID:406678-1756425600-1756598400@www.acvl.ch
SUMMARY:Translémanique en solitaire
DESCRIPTION:
URL:https://www.acvl.ch/event/translmanique-en-solitaire/
CATEGORIES:Régates
END:VEVENT
BEGIN:VEVENT
DTSTART;VALUE=DATE:20250830
DTEND;VALUE=DATE:20250831
DTSTAMP:20260419T172813
CREATED:20250826T041528Z
LAST-MODIFIED:20250826T041528Z
UID:395792-1756512000-1756512000@www.acvl.ch
SUMMARY:Le Joran
DESCRIPTION:
URL:https://www.acvl.ch/event/le-joran/
CATEGORIES:Régates
END:VEVENT
END:VCALENDAR