BEGIN:VCALENDAR
VERSION:2.0
PRODID:-//ACVL - - Association des clubs de voile lémaniques - ECPv6.15.20//NONSGML v1.0//EN
CALSCALE:GREGORIAN
METHOD:PUBLISH
X-ORIGINAL-URL:https://www.acvl.ch
X-WR-CALDESC:Évènements pour ACVL - - Association des clubs de voile lémaniques
REFRESH-INTERVAL;VALUE=DURATION:PT1H
X-Robots-Tag:noindex
X-PUBLISHED-TTL:PT1H
BEGIN:VTIMEZONE
TZID:Europe/Paris
BEGIN:DAYLIGHT
TZOFFSETFROM:+0100
TZOFFSETTO:+0200
TZNAME:CEST
DTSTART:20180325T010000
END:DAYLIGHT
BEGIN:STANDARD
TZOFFSETFROM:+0200
TZOFFSETTO:+0100
TZNAME:CET
DTSTART:20181028T010000
END:STANDARD
BEGIN:DAYLIGHT
TZOFFSETFROM:+0100
TZOFFSETTO:+0200
TZNAME:CEST
DTSTART:20190331T010000
END:DAYLIGHT
BEGIN:STANDARD
TZOFFSETFROM:+0200
TZOFFSETTO:+0100
TZNAME:CET
DTSTART:20191027T010000
END:STANDARD
BEGIN:DAYLIGHT
TZOFFSETFROM:+0100
TZOFFSETTO:+0200
TZNAME:CEST
DTSTART:20200329T010000
END:DAYLIGHT
BEGIN:STANDARD
TZOFFSETFROM:+0200
TZOFFSETTO:+0100
TZNAME:CET
DTSTART:20201025T010000
END:STANDARD
END:VTIMEZONE
BEGIN:VEVENT
DTSTART;VALUE=DATE:20191004
DTEND;VALUE=DATE:20191008
DTSTAMP:20260420T065526
CREATED:20190921T130354Z
LAST-MODIFIED:20190921T130520Z
UID:12189-1570147200-1570492799@www.acvl.ch
SUMMARY:Réservation du Dynamomètre - 10 tonnes
DESCRIPTION:De: Frédéric Bouteville \nTél. : +33 632388519 \ndu 2019-10-04 au 2019-10-07 \nType de bateau : Tout type de bateaux \nPoids estimé (kg) : 2000
URL:https://www.acvl.ch/event/reservation-du-dynamometre-10-tonnes/
CATEGORIES:Pesons
END:VEVENT
BEGIN:VEVENT
DTSTART;TZID=Europe/Paris:20191031T200000
DTEND;TZID=Europe/Paris:20191031T230000
DTSTAMP:20260420T065526
CREATED:20190921T130934Z
LAST-MODIFIED:20191014T205616Z
UID:12191-1572552000-1572562800@www.acvl.ch
SUMMARY:AG de l'ACVL
DESCRIPTION:
URL:https://www.acvl.ch/event/ag-de-lacvl/
LOCATION:Musée du Léman\, Nyon
CATEGORIES:ACVL
END:VEVENT
BEGIN:VEVENT
DTSTART;TZID=Europe/Paris:20191031T200000
DTEND;TZID=Europe/Paris:20191031T230000
DTSTAMP:20260420T065526
CREATED:20191009T201632Z
LAST-MODIFIED:20201221T161141Z
UID:14345-1572552000-1572562800@www.acvl.ch
SUMMARY:AG de Printemps 2021
DESCRIPTION:Chères Présidentes\, chers Présidents\, \nChers Invités \nPar la présente\, j’ai le plaisir de vous inviter à l’Assemblée Générale de Printemps de l’ACVL qui aura lieu le Jeudi 4 mars 2021\, à 20h00 précises au Club Nautique Morgien mais il est fort probable que nous ayons à activer le plan B par Zoom. \nComme d’habitude\, nous vous prions de bien vouloir préciser votre intention de présence à l’AG par inscription au Doodle avant le vendredi 26 Fev 2021 et de communiquer par email le(s) sujet(s) que vous souhaiteriez discuter en sus de ceux de l’ordre du jour suivant : \n  \n\nValidation de l’Assemblée Générale d’automne du 29 Oct 2020 (Vote 1)\nRapport du président – statut du plan quadriennal\nRapport des commissions\n\nRacing\nFormation\nDélégué France\nJuniors\nJauge / Technique\n\n\nPrésentation des comptes 2020\nRapport des contrôleurs au compte\nApprobation des rapports et décharge aux organes responsables (Vote 2)\nValidation du budget 2020 (Vote 3)\nDivers et propositions individuelles\n\nVous pouvez télécharger la Présentation de l’AG du 29 Oct 2020 qui fait office de PV (ainsi que les précédents) sur site de l’ACVL : https://www.acvl.ch/association/assemblees-generales/ \nIl se peut que nous n’ayons pas les dernières mises à jour des adresses Présidentielles alors merci de transmettre à qui de droit. \nAvec mes amicales salutations. \nPour le comité ACVL\, \nYorick Klipfel
URL:https://www.acvl.ch/event/ag-dautomne-2020/
END:VEVENT
END:VCALENDAR